BEGIN:VCALENDAR
VERSION:2.0
PRODID:spatie/icalendar-generator
BEGIN:VTIMEZONE
TZID:UTC
BEGIN:STANDARD
DTSTART:20250724T194915
TZOFFSETFROM:+0000
TZOFFSETTO:+0000
END:STANDARD
END:VTIMEZONE
BEGIN:VEVENT
UID:69e6833bea1a0
DTSTAMP:20260420T194915Z
SUMMARY:Margaret Courtney-Clarke: Geographies of Drought
DTSTART:20260508T080000Z
DTEND:20260508T080000Z
END:VEVENT
END:VCALENDAR