BEGIN:VCALENDAR
VERSION:2.0
PRODID:spatie/icalendar-generator
BEGIN:VTIMEZONE
TZID:UTC
BEGIN:STANDARD
DTSTART:20250724T110256
TZOFFSETFROM:+0000
TZOFFSETTO:+0000
END:STANDARD
END:VTIMEZONE
BEGIN:VEVENT
UID:69e607e0e8e66
DTSTAMP:20260420T110256Z
SUMMARY:Margaret Courtney-Clarke: Geographies of Drought
DTSTART:20260505T080000Z
DTEND:20260505T080000Z
END:VEVENT
END:VCALENDAR