BEGIN:VCALENDAR
VERSION:2.0
PRODID:spatie/icalendar-generator
BEGIN:VTIMEZONE
TZID:UTC
BEGIN:STANDARD
DTSTART:20250728T110209
TZOFFSETFROM:+0000
TZOFFSETTO:+0000
END:STANDARD
END:VTIMEZONE
BEGIN:VEVENT
UID:69eb4db18dfb2
DTSTAMP:20260424T110209Z
SUMMARY:Marta Klonowska: Glasmenagerie
DTSTART:20260616T080000Z
DTEND:20260616T080000Z
END:VEVENT
END:VCALENDAR