BEGIN:VCALENDAR
VERSION:2.0
PRODID:spatie/icalendar-generator
BEGIN:VTIMEZONE
TZID:UTC
BEGIN:STANDARD
DTSTART:20250726T221301
TZOFFSETFROM:+0000
TZOFFSETTO:+0000
END:STANDARD
END:VTIMEZONE
BEGIN:VEVENT
UID:69e947ed4dcb0
DTSTAMP:20260422T221301Z
SUMMARY:Marta Klonowska: Glasmenagerie
DTSTART:20260612T080000Z
DTEND:20260612T080000Z
END:VEVENT
END:VCALENDAR