BEGIN:VCALENDAR
VERSION:2.0
PRODID:spatie/icalendar-generator
BEGIN:VTIMEZONE
TZID:UTC
BEGIN:STANDARD
DTSTART:20250726T203625
TZOFFSETFROM:+0000
TZOFFSETTO:+0000
END:STANDARD
END:VTIMEZONE
BEGIN:VEVENT
UID:69e931492421a
DTSTAMP:20260422T203625Z
SUMMARY:Marta Klonowska: Glasmenagerie
DTSTART:20260611T080000Z
DTEND:20260611T080000Z
END:VEVENT
END:VCALENDAR