BEGIN:VCALENDAR
VERSION:2.0
PRODID:spatie/icalendar-generator
BEGIN:VTIMEZONE
TZID:UTC
BEGIN:STANDARD
DTSTART:20250726T125410
TZOFFSETFROM:+0000
TZOFFSETTO:+0000
END:STANDARD
END:VTIMEZONE
BEGIN:VEVENT
UID:69e8c4f24b4fd
DTSTAMP:20260422T125410Z
SUMMARY:Marta Klonowska: Glasmenagerie
DTSTART:20260602T080000Z
DTEND:20260602T080000Z
END:VEVENT
END:VCALENDAR