BEGIN:VCALENDAR
VERSION:2.0
PRODID:spatie/icalendar-generator
BEGIN:VTIMEZONE
TZID:UTC
BEGIN:STANDARD
DTSTART:20250725T230926
TZOFFSETFROM:+0000
TZOFFSETTO:+0000
END:STANDARD
END:VTIMEZONE
BEGIN:VEVENT
UID:69e803a6b3a13
DTSTAMP:20260421T230926Z
SUMMARY:Marta Klonowska: Glasmenagerie
DTSTART:20260521T080000Z
DTEND:20260521T080000Z
END:VEVENT
END:VCALENDAR