BEGIN:VCALENDAR
VERSION:2.0
PRODID:spatie/icalendar-generator
BEGIN:VTIMEZONE
TZID:UTC
BEGIN:STANDARD
DTSTART:20250724T194904
TZOFFSETFROM:+0000
TZOFFSETTO:+0000
END:STANDARD
END:VTIMEZONE
BEGIN:VEVENT
UID:69e68330e8de9
DTSTAMP:20260420T194904Z
SUMMARY:Marta Klonowska: Glasmenagerie
DTSTART:20260508T080000Z
DTEND:20260508T080000Z
END:VEVENT
END:VCALENDAR