BEGIN:VCALENDAR
VERSION:2.0
PRODID:spatie/icalendar-generator
BEGIN:VTIMEZONE
TZID:UTC
BEGIN:STANDARD
DTSTART:20250725T100643
TZOFFSETFROM:+0000
TZOFFSETTO:+0000
END:STANDARD
END:VTIMEZONE
BEGIN:VEVENT
UID:69e74c3312fc4
DTSTAMP:20260421T100643Z
SUMMARY:Marta Klonowska: Glasmenagerie
DTSTART:20260506T080000Z
DTEND:20260506T080000Z
END:VEVENT
END:VCALENDAR