BEGIN:VCALENDAR
VERSION:2.0
PRODID:spatie/icalendar-generator
BEGIN:VTIMEZONE
TZID:UTC
BEGIN:STANDARD
DTSTART:20250725T083250
TZOFFSETFROM:+0000
TZOFFSETTO:+0000
END:STANDARD
END:VTIMEZONE
BEGIN:VEVENT
UID:69e73632f0b25
DTSTAMP:20260421T083250Z
SUMMARY:Ägypten - Land der Unsterblichkeit
DTSTART:20260623T080000Z
DTEND:20260623T080000Z
END:VEVENT
END:VCALENDAR