BEGIN:VCALENDAR
VERSION:2.0
PRODID:spatie/icalendar-generator
BEGIN:VTIMEZONE
TZID:UTC
BEGIN:STANDARD
DTSTART:20250726T235122
TZOFFSETFROM:+0000
TZOFFSETTO:+0000
END:STANDARD
END:VTIMEZONE
BEGIN:VEVENT
UID:69e95efa957e9
DTSTAMP:20260422T235122Z
SUMMARY:Ägypten - Land der Unsterblichkeit
DTSTART:20260613T080000Z
DTEND:20260613T080000Z
END:VEVENT
END:VCALENDAR