BEGIN:VCALENDAR
VERSION:2.0
PRODID:spatie/icalendar-generator
BEGIN:VTIMEZONE
TZID:UTC
BEGIN:STANDARD
DTSTART:20250724T161838
TZOFFSETFROM:+0000
TZOFFSETTO:+0000
END:STANDARD
END:VTIMEZONE
BEGIN:VEVENT
UID:69e651dee264f
DTSTAMP:20260420T161838Z
SUMMARY:Ägypten - Land der Unsterblichkeit
DTSTART:20260610T080000Z
DTEND:20260610T080000Z
END:VEVENT
END:VCALENDAR