BEGIN:VCALENDAR
VERSION:2.0
PRODID:spatie/icalendar-generator
BEGIN:VTIMEZONE
TZID:UTC
BEGIN:STANDARD
DTSTART:20250726T100931
TZOFFSETFROM:+0000
TZOFFSETTO:+0000
END:STANDARD
END:VTIMEZONE
BEGIN:VEVENT
UID:69e89e5b7683d
DTSTAMP:20260422T100931Z
SUMMARY:Saurier – Faszination Urzeit
DTSTART:20260731T080000Z
DTEND:20260731T080000Z
END:VEVENT
END:VCALENDAR