BEGIN:VCALENDAR
VERSION:2.0
PRODID:spatie/icalendar-generator
BEGIN:VTIMEZONE
TZID:UTC
BEGIN:STANDARD
DTSTART:20250728T065408
TZOFFSETFROM:+0000
TZOFFSETTO:+0000
END:STANDARD
END:VTIMEZONE
BEGIN:VEVENT
UID:69eb1390444f5
DTSTAMP:20260424T065408Z
SUMMARY:Saurier – Faszination Urzeit
DTSTART:20260730T080000Z
DTEND:20260730T080000Z
END:VEVENT
END:VCALENDAR