BEGIN:VCALENDAR
VERSION:2.0
PRODID:spatie/icalendar-generator
BEGIN:VTIMEZONE
TZID:UTC
BEGIN:STANDARD
DTSTART:20250728T051629
TZOFFSETFROM:+0000
TZOFFSETTO:+0000
END:STANDARD
END:VTIMEZONE
BEGIN:VEVENT
UID:69eafcaddc164
DTSTAMP:20260424T051629Z
SUMMARY:Saurier – Faszination Urzeit
DTSTART:20260729T080000Z
DTEND:20260729T080000Z
END:VEVENT
END:VCALENDAR