BEGIN:VCALENDAR
VERSION:2.0
PRODID:spatie/icalendar-generator
BEGIN:VTIMEZONE
TZID:UTC
BEGIN:STANDARD
DTSTART:20250728T004034
TZOFFSETFROM:+0000
TZOFFSETTO:+0000
END:STANDARD
END:VTIMEZONE
BEGIN:VEVENT
UID:69eabc02cdfe4
DTSTAMP:20260424T004034Z
SUMMARY:Saurier – Faszination Urzeit
DTSTART:20260719T080000Z
DTEND:20260719T080000Z
END:VEVENT
END:VCALENDAR