BEGIN:VCALENDAR
VERSION:2.0
PRODID:spatie/icalendar-generator
BEGIN:VTIMEZONE
TZID:UTC
BEGIN:STANDARD
DTSTART:20250727T195652
TZOFFSETFROM:+0000
TZOFFSETTO:+0000
END:STANDARD
END:VTIMEZONE
BEGIN:VEVENT
UID:69ea79849ea1f
DTSTAMP:20260423T195652Z
SUMMARY:Saurier – Faszination Urzeit
DTSTART:20260714T080000Z
DTEND:20260714T080000Z
END:VEVENT
END:VCALENDAR