BEGIN:VCALENDAR
VERSION:2.0
PRODID:spatie/icalendar-generator
BEGIN:VTIMEZONE
TZID:UTC
BEGIN:STANDARD
DTSTART:20250725T083250
TZOFFSETFROM:+0000
TZOFFSETTO:+0000
END:STANDARD
END:VTIMEZONE
BEGIN:VEVENT
UID:69e736328cb00
DTSTAMP:20260421T083250Z
SUMMARY:Saurier – Faszination Urzeit
DTSTART:20260710T080000Z
DTEND:20260710T080000Z
END:VEVENT
END:VCALENDAR