BEGIN:VCALENDAR
VERSION:2.0
PRODID:spatie/icalendar-generator
BEGIN:VTIMEZONE
TZID:UTC
BEGIN:STANDARD
DTSTART:20250729T171746
TZOFFSETFROM:+0000
TZOFFSETTO:+0000
END:STANDARD
END:VTIMEZONE
BEGIN:VEVENT
UID:69ecf73a90e2d
DTSTAMP:20260425T171746Z
SUMMARY:Saurier – Faszination Urzeit
DTSTART:20260707T080000Z
DTEND:20260707T080000Z
END:VEVENT
END:VCALENDAR