BEGIN:VCALENDAR
VERSION:2.0
PRODID:spatie/icalendar-generator
BEGIN:VTIMEZONE
TZID:UTC
BEGIN:STANDARD
DTSTART:20250726T101104
TZOFFSETFROM:+0000
TZOFFSETTO:+0000
END:STANDARD
END:VTIMEZONE
BEGIN:VEVENT
UID:69e89eb8d53e8
DTSTAMP:20260422T101104Z
SUMMARY:Saurier – Faszination Urzeit
DTSTART:20260705T080000Z
DTEND:20260705T080000Z
END:VEVENT
END:VCALENDAR