BEGIN:VCALENDAR
VERSION:2.0
PRODID:spatie/icalendar-generator
BEGIN:VTIMEZONE
TZID:UTC
BEGIN:STANDARD
DTSTART:20250727T121620
TZOFFSETFROM:+0000
TZOFFSETTO:+0000
END:STANDARD
END:VTIMEZONE
BEGIN:VEVENT
UID:69ea0d94a08a9
DTSTAMP:20260423T121620Z
SUMMARY:Saurier – Faszination Urzeit
DTSTART:20260702T080000Z
DTEND:20260702T080000Z
END:VEVENT
END:VCALENDAR