BEGIN:VCALENDAR
VERSION:2.0
PRODID:spatie/icalendar-generator
BEGIN:VTIMEZONE
TZID:UTC
BEGIN:STANDARD
DTSTART:20250726T095738
TZOFFSETFROM:+0000
TZOFFSETTO:+0000
END:STANDARD
END:VTIMEZONE
BEGIN:VEVENT
UID:69e89b921dcb3
DTSTAMP:20260422T095738Z
SUMMARY:Saurier – Faszination Urzeit
DTSTART:20260701T080000Z
DTEND:20260701T080000Z
END:VEVENT
END:VCALENDAR