BEGIN:VCALENDAR
VERSION:2.0
PRODID:spatie/icalendar-generator
BEGIN:VTIMEZONE
TZID:UTC
BEGIN:STANDARD
DTSTART:20250727T041135
TZOFFSETFROM:+0000
TZOFFSETTO:+0000
END:STANDARD
END:VTIMEZONE
BEGIN:VEVENT
UID:69e99bf75de59
DTSTAMP:20260423T041135Z
SUMMARY:Saurier – Faszination Urzeit
DTSTART:20260620T080000Z
DTEND:20260620T080000Z
END:VEVENT
END:VCALENDAR