BEGIN:VCALENDAR
VERSION:2.0
PRODID:spatie/icalendar-generator
BEGIN:VTIMEZONE
TZID:UTC
BEGIN:STANDARD
DTSTART:20250726T100859
TZOFFSETFROM:+0000
TZOFFSETTO:+0000
END:STANDARD
END:VTIMEZONE
BEGIN:VEVENT
UID:69e89e3b5e62d
DTSTAMP:20260422T100859Z
SUMMARY:Saurier – Faszination Urzeit
DTSTART:20260618T080000Z
DTEND:20260618T080000Z
END:VEVENT
END:VCALENDAR