BEGIN:VCALENDAR
VERSION:2.0
PRODID:spatie/icalendar-generator
BEGIN:VTIMEZONE
TZID:UTC
BEGIN:STANDARD
DTSTART:20250726T185350
TZOFFSETFROM:+0000
TZOFFSETTO:+0000
END:STANDARD
END:VTIMEZONE
BEGIN:VEVENT
UID:69e9193e4f840
DTSTAMP:20260422T185350Z
SUMMARY:Saurier – Faszination Urzeit
DTSTART:20260609T080000Z
DTEND:20260609T080000Z
END:VEVENT
END:VCALENDAR