BEGIN:VCALENDAR
VERSION:2.0
PRODID:spatie/icalendar-generator
BEGIN:VTIMEZONE
TZID:UTC
BEGIN:STANDARD
DTSTART:20250726T064932
TZOFFSETFROM:+0000
TZOFFSETTO:+0000
END:STANDARD
END:VTIMEZONE
BEGIN:VEVENT
UID:69e86f7c0f06a
DTSTAMP:20260422T064932Z
SUMMARY:Saurier – Faszination Urzeit
DTSTART:20260521T080000Z
DTEND:20260521T080000Z
END:VEVENT
END:VCALENDAR