BEGIN:VCALENDAR
VERSION:2.0
PRODID:spatie/icalendar-generator
BEGIN:VTIMEZONE
TZID:UTC
BEGIN:STANDARD
DTSTART:20250725T105952
TZOFFSETFROM:+0000
TZOFFSETTO:+0000
END:STANDARD
END:VTIMEZONE
BEGIN:VEVENT
UID:69e758a8991ca
DTSTAMP:20260421T105952Z
SUMMARY:Saurier – Faszination Urzeit
DTSTART:20260513T080000Z
DTEND:20260513T080000Z
END:VEVENT
END:VCALENDAR