BEGIN:VCALENDAR
VERSION:2.0
PRODID:spatie/icalendar-generator
BEGIN:VTIMEZONE
TZID:UTC
BEGIN:STANDARD
DTSTART:20250724T204528
TZOFFSETFROM:+0000
TZOFFSETTO:+0000
END:STANDARD
END:VTIMEZONE
BEGIN:VEVENT
UID:69e6906850bb4
DTSTAMP:20260420T204528Z
SUMMARY:Saurier – Faszination Urzeit
DTSTART:20260508T080000Z
DTEND:20260508T080000Z
END:VEVENT
END:VCALENDAR