BEGIN:VCALENDAR
VERSION:2.0
PRODID:spatie/icalendar-generator
BEGIN:VTIMEZONE
TZID:UTC
BEGIN:STANDARD
DTSTART:20250724T113952
TZOFFSETFROM:+0000
TZOFFSETTO:+0000
END:STANDARD
END:VTIMEZONE
BEGIN:VEVENT
UID:69e61088d4475
DTSTAMP:20260420T113952Z
SUMMARY:Cossu - We Are The Germans
DTSTART:20260429T180000Z
DTEND:20260429T180000Z
END:VEVENT
END:VCALENDAR