BEGIN:VCALENDAR
VERSION:2.0
PRODID:spatie/icalendar-generator
BEGIN:VTIMEZONE
TZID:UTC
BEGIN:STANDARD
DTSTART:20250726T110855
TZOFFSETFROM:+0000
TZOFFSETTO:+0000
END:STANDARD
END:VTIMEZONE
BEGIN:VEVENT
UID:69e8ac47e1f79
DTSTAMP:20260422T110855Z
SUMMARY:CAVALLUNA - Tor zur Anderswelt
DTSTART:20260530T170000Z
DTEND:20260530T170000Z
END:VEVENT
END:VCALENDAR