BEGIN:VCALENDAR
VERSION:2.0
PRODID:spatie/icalendar-generator
BEGIN:VTIMEZONE
TZID:UTC
BEGIN:STANDARD
DTSTART:20250726T230025
TZOFFSETFROM:+0000
TZOFFSETTO:+0000
END:STANDARD
END:VTIMEZONE
BEGIN:VEVENT
UID:69e95309bde34
DTSTAMP:20260422T230025Z
SUMMARY:Ill-Young Kim
DTSTART:20261029T190000Z
DTEND:20261029T190000Z
END:VEVENT
END:VCALENDAR