BEGIN:VCALENDAR
VERSION:2.0
PRODID:spatie/icalendar-generator
BEGIN:VTIMEZONE
TZID:UTC
BEGIN:STANDARD
DTSTART:20250724T124600
TZOFFSETFROM:+0000
TZOFFSETTO:+0000
END:STANDARD
END:VTIMEZONE
BEGIN:VEVENT
UID:69e62008effe8
DTSTAMP:20260420T124600Z
SUMMARY:Christin Jugsch - Plan A wird durchgezogen!
DTSTART:20260425T180000Z
DTEND:20260425T180000Z
END:VEVENT
END:VCALENDAR