BEGIN:VCALENDAR
VERSION:2.0
PRODID:spatie/icalendar-generator
BEGIN:VTIMEZONE
TZID:UTC
BEGIN:STANDARD
DTSTART:20250726T075508
TZOFFSETFROM:+0000
TZOFFSETTO:+0000
END:STANDARD
END:VTIMEZONE
BEGIN:VEVENT
UID:69e87edc4f4b4
DTSTAMP:20260422T075508Z
SUMMARY:Benni Stark - Schon lustig wenn's witzig ist!
DTSTART:20260528T180000Z
DTEND:20260528T180000Z
END:VEVENT
END:VCALENDAR