BEGIN:VCALENDAR
VERSION:2.0
PRODID:spatie/icalendar-generator
BEGIN:VTIMEZONE
TZID:UTC
BEGIN:STANDARD
DTSTART:20250724T091414
TZOFFSETFROM:+0000
TZOFFSETTO:+0000
END:STANDARD
END:VTIMEZONE
BEGIN:VEVENT
UID:69e5ee66cf1c6
DTSTAMP:20260420T091414Z
SUMMARY:Voodoo Lounge - Europe's greatest Rolling Stones Show
DTSTART:20260425T180000Z
DTEND:20260425T180000Z
END:VEVENT
END:VCALENDAR