BEGIN:VCALENDAR
VERSION:2.0
PRODID:spatie/icalendar-generator
BEGIN:VTIMEZONE
TZID:UTC
BEGIN:STANDARD
DTSTART:20250727T123147
TZOFFSETFROM:+0000
TZOFFSETTO:+0000
END:STANDARD
END:VTIMEZONE
BEGIN:VEVENT
UID:69ea1133bd64c
DTSTAMP:20260423T123147Z
SUMMARY:True Crime Magic - Illusion trifft auf harte Realität
DTSTART:20261010T180000Z
DTEND:20261010T180000Z
END:VEVENT
END:VCALENDAR