BEGIN:VCALENDAR
VERSION:2.0
PRODID:spatie/icalendar-generator
BEGIN:VTIMEZONE
TZID:UTC
BEGIN:STANDARD
DTSTART:20250725T104936
TZOFFSETFROM:+0000
TZOFFSETTO:+0000
END:STANDARD
END:VTIMEZONE
BEGIN:VEVENT
UID:69e75640bacd9
DTSTAMP:20260421T104936Z
SUMMARY:Diva La Kruttke - It's Showtime
DTSTART:20260605T180000Z
DTEND:20260605T180000Z
END:VEVENT
END:VCALENDAR