BEGIN:VCALENDAR
VERSION:2.0
PRODID:spatie/icalendar-generator
BEGIN:VTIMEZONE
TZID:UTC
BEGIN:STANDARD
DTSTART:20250724T124437
TZOFFSETFROM:+0000
TZOFFSETTO:+0000
END:STANDARD
END:VTIMEZONE
BEGIN:VEVENT
UID:69e61fb559deb
DTSTAMP:20260420T124437Z
SUMMARY:Bülent Ceylan - Diktatürk
DTSTART:20260425T170000Z
DTEND:20260425T170000Z
END:VEVENT
END:VCALENDAR