BEGIN:VCALENDAR
VERSION:2.0
PRODID:spatie/icalendar-generator
BEGIN:VTIMEZONE
TZID:UTC
BEGIN:STANDARD
DTSTART:20250724T165625
TZOFFSETFROM:+0000
TZOFFSETTO:+0000
END:STANDARD
END:VTIMEZONE
BEGIN:VEVENT
UID:69e65ab9540c4
DTSTAMP:20260420T165625Z
SUMMARY:Ausbilder Schmidt: Unkraut vergeht nicht - 25 Jahre Anschiss
DTSTART:20260509T180000Z
DTEND:20260509T180000Z
END:VEVENT
END:VCALENDAR